BEGIN:VCALENDAR
VERSION:2.0
PRODID:gruene-bremerhaven.de
METHOD:PUBLISH
BEGIN:VTIMEZONE
TZID:Europe/Berlin
X-LIC-LOCATION:Europe/Berlin
BEGIN:DAYLIGHT
TZOFFSETFROM:+0100
TZOFFSETTO:+0200
TZNAME:CEST
DTSTART:19700329T020000
RRULE:FREQ=YEARLY;INTERVAL=1;BYDAY=-1SU;BYMONTH=3
END:DAYLIGHT
BEGIN:STANDARD
TZOFFSETFROM:+0200
TZOFFSETTO:+0100
TZNAME:CET
DTSTART:19701025T030000
RRULE:FREQ=YEARLY;INTERVAL=1;BYDAY=-1SU;BYMONTH=10
END:STANDARD
END:VTIMEZONE
BEGIN:VEVENT
UID:256092a8b8d805beceb01d9c00542cfe@gruene-bremerhaven.de
URL;VALUE=URI:https://gruene-bremerhaven.de/termine/sitzung-des-kreisvors
 tandes-26/
LOCATION:Grüne Geschäftsstelle
SUMMARY:Sitzung des Kreisvorstandes
DESCRIPTION;ALTREP="data:text/html,%0A%3Cp%3EGeplante%20Tagesordnung%3A%3
 C%2Fp%3E%0A%0A%0A%0A%3Col%20class%3D%22wp-block-list%22%3E%0A%3Cli%3EBegr
 %C3%BC%C3%9Fung%20und%20Formalia%3C%2Fli%3E%0A%0A%0A%0A%3Cli%3EPolitische
 s%20Lage%20und%20Aktuelles%3C%2Fli%3E%0A%0A%0A%0A%3Cli%3EPlanungen%20des%
 20KV%3C%2Fli%3E%0A%0A%0A%0A%3Cli%3ETermine%3C%2Fli%3E%0A%0A%0A%0A%3Cli%3E
 Verschiedenes%3C%2Fli%3E%0A%0A%0A%0A%3Cli%3EIntern%3C%2Fli%3E%0A%3C%2Fol%
 3E%0A%0A%0A%0A%3Cp%3EBei%20Teilnahme%20wird%20um%20Anmeldung%20beim%20Kre
 isvorstand%20%28kreisvorstand%40gruene-bremerhaven.de%29%20gebeten.%3C%2F
 p%3E%0A":Geplante Tagesordnung:\n\nBegrüßung und Formalia\n\nPolitische
 s Lage und Aktuelles\n\nPlanungen des KV\n\nTermine\n\nVerschiedenes\n\nI
 ntern\n\nBei Teilnahme wird um Anmeldung beim Kreisvorstand (kreisvorstan
 d@gruene-bremerhaven.de) gebeten.
CLASS:PUBLIC
DTSTART;TZID=Europe/Berlin:20250717T180000
DTEND;TZID=Europe/Berlin:20250717T190000
DTSTAMP:20260421T093413
END:VEVENT
END:VCALENDAR